BEGIN:VCALENDAR
VERSION:2.0
PRODID:-//FatherType - ECPv6.15.20//NONSGML v1.0//EN
CALSCALE:GREGORIAN
METHOD:PUBLISH
X-WR-CALNAME:FatherType
X-ORIGINAL-URL:https://fathertype.com
X-WR-CALDESC:Events for FatherType
REFRESH-INTERVAL;VALUE=DURATION:PT1H
X-Robots-Tag:noindex
X-PUBLISHED-TTL:PT1H
BEGIN:VTIMEZONE
TZID:Asia/Karachi
BEGIN:STANDARD
TZOFFSETFROM:+0500
TZOFFSETTO:+0500
TZNAME:PKT
DTSTART:20250101T000000
END:STANDARD
END:VTIMEZONE
BEGIN:VEVENT
DTSTART;TZID=Asia/Karachi:20260411T180000
DTEND;TZID=Asia/Karachi:20260411T190000
DTSTAMP:20260424T222806
CREATED:20260309T040057Z
LAST-MODIFIED:20260309T040057Z
UID:2237-1775930400-1775934000@fathertype.com
SUMMARY:Week 1-Principle 1: Live life with a attitude of gratitude
DESCRIPTION:
URL:https://fathertype.com/event/week-1-principle-1-live-life-with-a-attitude-of-gratitude/
LOCATION:Ft. Pierce Central\, 4101 S 25th St\, Fort Pierce\, FL\, 34981\, United States
ORGANIZER;CN="FatherType":MAILTO:info@fathertype.com
END:VEVENT
END:VCALENDAR