BEGIN:VCALENDAR
VERSION:2.0
PRODID:-//FatherType - ECPv6.15.20//NONSGML v1.0//EN
CALSCALE:GREGORIAN
METHOD:PUBLISH
X-WR-CALNAME:FatherType
X-ORIGINAL-URL:https://fathertype.com
X-WR-CALDESC:Events for FatherType
REFRESH-INTERVAL;VALUE=DURATION:PT1H
X-Robots-Tag:noindex
X-PUBLISHED-TTL:PT1H
BEGIN:VTIMEZONE
TZID:Asia/Karachi
BEGIN:STANDARD
TZOFFSETFROM:+0500
TZOFFSETTO:+0500
TZNAME:PKT
DTSTART:20250101T000000
END:STANDARD
END:VTIMEZONE
BEGIN:VEVENT
DTSTART;TZID=Asia/Karachi:20260425T180000
DTEND;TZID=Asia/Karachi:20260425T190000
DTSTAMP:20260424T210056
CREATED:20260311T023756Z
LAST-MODIFIED:20260311T023756Z
UID:2260-1777140000-1777143600@fathertype.com
SUMMARY:Week 3-Principle 3: Respect life at all times
DESCRIPTION:
URL:https://fathertype.com/event/week-3-principle-3-respect-life-at-all-times/
LOCATION:Ft. Pierce Central\, 4101 S 25th St\, Fort Pierce\, FL\, 34981\, United States
ORGANIZER;CN="FatherType":MAILTO:info@fathertype.com
END:VEVENT
BEGIN:VEVENT
DTSTART;TZID=Asia/Karachi:20260429T180000
DTEND;TZID=Asia/Karachi:20260429T190000
DTSTAMP:20260424T210056
CREATED:20260311T024154Z
LAST-MODIFIED:20260311T024154Z
UID:2262-1777485600-1777489200@fathertype.com
SUMMARY:Workshop 1: Introduction to credit (personal and business)
DESCRIPTION:
URL:https://fathertype.com/event/workshop-1-introduction-to-credit-personal-and-business/
LOCATION:Ft. Pierce Central\, 4101 S 25th St\, Fort Pierce\, FL\, 34981\, United States
ORGANIZER;CN="FatherType":MAILTO:info@fathertype.com
END:VEVENT
END:VCALENDAR